BEGIN:VCALENDAR
VERSION:2.0
PRODID:-//General Air - ECPv6.15.20//NONSGML v1.0//EN
CALSCALE:GREGORIAN
METHOD:PUBLISH
X-ORIGINAL-URL:https://www.generalair.com
X-WR-CALDESC:Events for General Air
REFRESH-INTERVAL;VALUE=DURATION:PT1H
X-Robots-Tag:noindex
X-PUBLISHED-TTL:PT1H
BEGIN:VTIMEZONE
TZID:America/Denver
BEGIN:DAYLIGHT
TZOFFSETFROM:-0700
TZOFFSETTO:-0600
TZNAME:MDT
DTSTART:20260308T090000
END:DAYLIGHT
BEGIN:STANDARD
TZOFFSETFROM:-0600
TZOFFSETTO:-0700
TZNAME:MST
DTSTART:20261101T080000
END:STANDARD
BEGIN:DAYLIGHT
TZOFFSETFROM:-0700
TZOFFSETTO:-0600
TZNAME:MDT
DTSTART:20270314T090000
END:DAYLIGHT
BEGIN:STANDARD
TZOFFSETFROM:-0600
TZOFFSETTO:-0700
TZNAME:MST
DTSTART:20271107T080000
END:STANDARD
BEGIN:DAYLIGHT
TZOFFSETFROM:-0700
TZOFFSETTO:-0600
TZNAME:MDT
DTSTART:20280312T090000
END:DAYLIGHT
BEGIN:STANDARD
TZOFFSETFROM:-0600
TZOFFSETTO:-0700
TZNAME:MST
DTSTART:20281105T080000
END:STANDARD
END:VTIMEZONE
BEGIN:VEVENT
DTSTART;TZID=America/Denver:20270313T080000
DTEND;TZID=America/Denver:20270313T170000
DTSTAMP:20260421T191034
CREATED:20260421T200023Z
LAST-MODIFIED:20260421T200023Z
UID:10001338-1804924800-1804957200@www.generalair.com
SUMMARY:MIG Welding
DESCRIPTION:This course covers the theory and operation of MIG welding on steel\, stainless steel\, and aluminum. This is a great class for the beginner welder or a seasoned welder that is looking to add to their skills. The full day class allows for more time to interact and address technique versus some of our shorter classes. Topics include: fundamentals of MIG welding\, shielding gas and filler metal selection\, equipment selection\, set-up\, and troubleshooting\, equipment features\, settings\, and adjustments \nWhat to Bring (Students are encouraged to bring their own Personal Protection Equipment (PPE) \n\nSafety glasses\nProtective welding jacket\nWelding gloves\nWelding Helmet\n\nNotes: \n\nIf a student doesn’t have the PPE described above\, these items will be provided for use during class.\nLeather closed-toed shoes or equivalent are required in the welding lab.\nAbsolutely no shorts or open-toed shoes are allowed in the welding lab.\n\nGeneral Air Greeley 1700 1st Ave. Greeley\, CO 80631 \nPlease contact us at registration@generalair.com with any questions.
URL:https://www.generalair.com/event/mig-welding-27/
LOCATION:General Air Greeley\, 1700 1st Ave.\, Greeley\, CO\, 80631\, United States
CATEGORIES:Greeley Hobby Classes
END:VEVENT
BEGIN:VEVENT
DTSTART;TZID=America/Denver:20270410T080000
DTEND;TZID=America/Denver:20270410T170000
DTSTAMP:20260421T191034
CREATED:20260421T200025Z
LAST-MODIFIED:20260421T200025Z
UID:10001339-1807344000-1807376400@www.generalair.com
SUMMARY:TIG Welding
DESCRIPTION:This course covers the theory and operation of TIG welding on steel\, stainless steel\, and aluminum. This is a great class for the beginner welder or a seasoned welder that is looking to add to their skills. The full day class allows for more time to interact and address technique versus some of our shorter classes. Topics include: fundamentals of TIG welding\, shielding gas and filler metal selection\, equipment selection\, set-up\, and troubleshooting\, equipment features\, settings\, and adjustments \nWhat to Bring (Students are encouraged to bring their own Personal Protection Equipment (PPE) \n\nSafety glasses\nProtective welding jacket\nWelding gloves\nWelding Helmet\n\nNotes: \n\nIf a student doesn’t have the PPE described above\, these items will be provided for use during class.\nLeather closed-toed shoes or equivalent are required in the welding lab.\nAbsolutely no shorts or open-toed shoes are allowed in the welding lab.\n\nGeneral Air Greeley 1700 1st Ave. Greeley\, CO 80631 \nPlease contact us at registration@generalair.com with any questions.
URL:https://www.generalair.com/event/tig-welding-22/
LOCATION:General Air Greeley\, 1700 1st Ave.\, Greeley\, CO\, 80631\, United States
CATEGORIES:Greeley Hobby Classes
END:VEVENT
BEGIN:VEVENT
DTSTART;TZID=America/Denver:20270508T080000
DTEND;TZID=America/Denver:20270508T170000
DTSTAMP:20260421T191034
CREATED:20260421T200026Z
LAST-MODIFIED:20260421T200026Z
UID:10001340-1809763200-1809795600@www.generalair.com
SUMMARY:Stick Welding
DESCRIPTION:This course covers the theory and operation of Stick welding. This is a great class for the beginner welder or a seasoned welder that is looking to add to their skills. The full day class allows for more time to interact and address technique versus some of our shorter classes. Topics include: fundamentals\, equipment selection\, set-up\, and troubleshooting\, equipment features\, settings\, and adjustments \nWhat to Bring (Students are encouraged to bring their own Personal Protection Equipment (PPE) \n\nSafety glasses\nProtective welding jacket\nWelding gloves\nWelding Helmet\n\nNotes: \n\nIf a student doesn’t have the PPE described above\, these items will be provided for use during class.\nLeather closed-toed shoes or equivalent are required in the welding lab.\nAbsolutely no shorts or open-toed shoes are allowed in the welding lab.\n\nGeneral Air Greeley 1700 1st Ave. Greeley\, CO 80631 \nPlease contact us at registration@generalair.com with any questions.
URL:https://www.generalair.com/event/stick-welding-16/
LOCATION:General Air Greeley\, 1700 1st Ave.\, Greeley\, CO\, 80631\, United States
CATEGORIES:Greeley Hobby Classes
END:VEVENT
END:VCALENDAR