BEGIN:VCALENDAR
VERSION:2.0
PRODID:-//General Air - ECPv6.15.20//NONSGML v1.0//EN
CALSCALE:GREGORIAN
METHOD:PUBLISH
X-ORIGINAL-URL:https://www.generalair.com
X-WR-CALDESC:Events for General Air
REFRESH-INTERVAL;VALUE=DURATION:PT1H
X-Robots-Tag:noindex
X-PUBLISHED-TTL:PT1H
BEGIN:VTIMEZONE
TZID:America/Denver
BEGIN:DAYLIGHT
TZOFFSETFROM:-0700
TZOFFSETTO:-0600
TZNAME:MDT
DTSTART:20240310T090000
END:DAYLIGHT
BEGIN:STANDARD
TZOFFSETFROM:-0600
TZOFFSETTO:-0700
TZNAME:MST
DTSTART:20241103T080000
END:STANDARD
BEGIN:DAYLIGHT
TZOFFSETFROM:-0700
TZOFFSETTO:-0600
TZNAME:MDT
DTSTART:20250309T090000
END:DAYLIGHT
BEGIN:STANDARD
TZOFFSETFROM:-0600
TZOFFSETTO:-0700
TZNAME:MST
DTSTART:20251102T080000
END:STANDARD
BEGIN:DAYLIGHT
TZOFFSETFROM:-0700
TZOFFSETTO:-0600
TZNAME:MDT
DTSTART:20260308T090000
END:DAYLIGHT
BEGIN:STANDARD
TZOFFSETFROM:-0600
TZOFFSETTO:-0700
TZNAME:MST
DTSTART:20261101T080000
END:STANDARD
BEGIN:DAYLIGHT
TZOFFSETFROM:-0700
TZOFFSETTO:-0600
TZNAME:MDT
DTSTART:20270314T090000
END:DAYLIGHT
BEGIN:STANDARD
TZOFFSETFROM:-0600
TZOFFSETTO:-0700
TZNAME:MST
DTSTART:20271107T080000
END:STANDARD
END:VTIMEZONE
BEGIN:VEVENT
DTSTART;TZID=America/Denver:20260411T080000
DTEND;TZID=America/Denver:20260411T170000
DTSTAMP:20260420T180345
CREATED:20250418T213520Z
LAST-MODIFIED:20250516T135726Z
UID:10001134-1775894400-1775926800@www.generalair.com
SUMMARY:TIG Welding
DESCRIPTION:This course covers the theory and operation of TIG welding on steel\, stainless steel\, and aluminum. This is a great class for the beginner welder or a seasoned welder that is looking to add to their skills. The full day class allows for more time to interact and address technique versus some of our shorter classes. Topics include: fundamentals of TIG welding\, shielding gas and filler metal selection\, equipment selection\, set-up\, and troubleshooting\, equipment features\, settings\, and adjustments
URL:https://www.generalair.com/event/tig-welding-18/
LOCATION:General Air Greeley\, 1700 1st Ave.\, Greeley\, CO\, 80631\, United States
CATEGORIES:Greeley Hobby Classes
END:VEVENT
BEGIN:VEVENT
DTSTART;TZID=America/Denver:20260314T080000
DTEND;TZID=America/Denver:20260314T170000
DTSTAMP:20260420T180345
CREATED:20250418T213520Z
LAST-MODIFIED:20250516T135726Z
UID:10001133-1773475200-1773507600@www.generalair.com
SUMMARY:MIG Welding
DESCRIPTION:This course covers the theory and operation of MIG welding on steel\, stainless steel\, and aluminum. This is a great class for the beginner welder or a seasoned welder that is looking to add to their skills. The full day class allows for more time to interact and address technique versus some of our shorter classes. Topics include: fundamentals of MIG welding\, shielding gas and filler metal selection\, equipment selection\, set-up\, and troubleshooting\, equipment features\, settings\, and adjustments
URL:https://www.generalair.com/event/mig-welding-23/
LOCATION:General Air Greeley\, 1700 1st Ave.\, Greeley\, CO\, 80631\, United States
CATEGORIES:Greeley Hobby Classes
END:VEVENT
BEGIN:VEVENT
DTSTART;TZID=America/Denver:20260214T080000
DTEND;TZID=America/Denver:20260214T170000
DTSTAMP:20260420T180345
CREATED:20250418T213520Z
LAST-MODIFIED:20250516T135725Z
UID:10001132-1771056000-1771088400@www.generalair.com
SUMMARY:TIG Welding
DESCRIPTION:This course covers the theory and operation of TIG welding on steel\, stainless steel\, and aluminum. This is a great class for the beginner welder or a seasoned welder that is looking to add to their skills. The full day class allows for more time to interact and address technique versus some of our shorter classes. Topics include: fundamentals of TIG welding\, shielding gas and filler metal selection\, equipment selection\, set-up\, and troubleshooting\, equipment features\, settings\, and adjustments
URL:https://www.generalair.com/event/tig-welding-17/
LOCATION:General Air Greeley\, 1700 1st Ave.\, Greeley\, CO\, 80631\, United States
CATEGORIES:Greeley Hobby Classes
END:VEVENT
BEGIN:VEVENT
DTSTART;TZID=America/Denver:20260110T080000
DTEND;TZID=America/Denver:20260110T170000
DTSTAMP:20260420T180345
CREATED:20250418T213520Z
LAST-MODIFIED:20250516T135724Z
UID:10001131-1768032000-1768064400@www.generalair.com
SUMMARY:MIG Welding
DESCRIPTION:This course covers the theory and operation of MIG welding on steel\, stainless steel\, and aluminum. This is a great class for the beginner welder or a seasoned welder that is looking to add to their skills. The full day class allows for more time to interact and address technique versus some of our shorter classes. Topics include: fundamentals of MIG welding\, shielding gas and filler metal selection\, equipment selection\, set-up\, and troubleshooting\, equipment features\, settings\, and adjustments
URL:https://www.generalair.com/event/mig-welding-22/
LOCATION:General Air Greeley\, 1700 1st Ave.\, Greeley\, CO\, 80631\, United States
CATEGORIES:Greeley Hobby Classes
END:VEVENT
BEGIN:VEVENT
DTSTART;TZID=America/Denver:20251213T080000
DTEND;TZID=America/Denver:20251213T170000
DTSTAMP:20260420T180345
CREATED:20250418T213518Z
LAST-MODIFIED:20250516T135721Z
UID:10001130-1765612800-1765645200@www.generalair.com
SUMMARY:Stick Welding
DESCRIPTION:This course covers the theory and operation of Stick welding. This is a great class for the beginner welder or a seasoned welder that is looking to add to their skills. The full day class allows for more time to interact and address technique versus some of our shorter classes. Topics include: fundamentals\, equipment selection\, set-up\, and troubleshooting\, equipment features\, settings\, and adjustments
URL:https://www.generalair.com/event/stick-welding-13/
LOCATION:General Air Greeley\, 1700 1st Ave.\, Greeley\, CO\, 80631\, United States
CATEGORIES:Greeley Hobby Classes
END:VEVENT
END:VCALENDAR